BEGIN:VCALENDAR
VERSION:2.0
PRODID:-//pretix//pretix.eu//
BEGIN:VTIMEZONE
TZID:Europe/Berlin
BEGIN:STANDARD
DTSTART:20001029T040000
RRULE:FREQ=YEARLY;BYDAY=-1SU;BYMONTH=10
TZNAME:CET
TZOFFSETFROM:+0200
TZOFFSETTO:+0100
END:STANDARD
BEGIN:DAYLIGHT
DTSTART:20000326T030000
RRULE:FREQ=YEARLY;BYDAY=-1SU;BYMONTH=3
TZNAME:CEST
TZOFFSETFROM:+0100
TZOFFSETTO:+0200
END:DAYLIGHT
END:VTIMEZONE
BEGIN:VEVENT
UID:pretix-ivam-fuehrung02-0@shop.ivam.com
DTSTART;VALUE=DATE:20260508
DTEND;VALUE=DATE:20260523
DESCRIPTION:Tickets: https://shop.ivam.com/fuehrung02/\nOrganizer: IVAM Ser
 vice GmbH
DTSTAMP:20260421T040145Z
LOCATION:Online-Meeting
SUMMARY:Weiterbildung: Führen ohne Personalverantwortung - Wirksam leiten 
 in Projekten und Teams
END:VEVENT
BEGIN:VEVENT
UID:pretix-ivam-cif2026-0@shop.ivam.com
DTSTART;TZID=Europe/Berlin:20260521T150000
DTEND;TZID=Europe/Berlin:20260521T173000
DESCRIPTION:Tickets: https://shop.ivam.com/cif2026/\nOrganizer: IVAM Servic
 e GmbH
DTSTAMP:20260421T040145Z
LOCATION:Zoom Webinar
SUMMARY:COMPAMED Innovation Forum 2026
END:VEVENT
END:VCALENDAR
